BEGIN:VCALENDAR
VERSION:2.0
METHOD:PUBLISH
X-WR-CALNAME:eric.openflows |  September 01 2002- October 01 2002 | Filter\: 
PRODID:-//strange bird labs//Drupal iCal API//EN
BEGIN:VEVENT
DTSTAMP;VALUE=DATE-TIME:20231225T094150Z
DTSTART;VALUE=DATE-TIME:20020927T140000Z
DTEND;VALUE=DATE-TIME:20020929T140000Z
UID:http://eric.openflows.com/?q=node/7
URL;VALUE=URI:http://eric.openflows.com/?q=node/7
SUMMARY:Discuss and Deploy Conference
DESCRIPTION:<p>I was an organizer of this event and on a number of pannels. Here is the announcement of the conference\:</p>
 <p>ABC No Rio\, Autonomedia\, FREE.THE.MEDIA!\, InterActivist Network\, Openflows<br />
 Networks Ltd and TAO invite you to attend a conference addressing issues<br />
 related to media autonomy and self-determination.</p>
 <p>Discuss &amp\; Deploy will explore the convergence of technology\, activism and<br />
 culture\, examining what this digital convergence means in terms of public<br />
 access and the rights of noncommercial networks to exist in the<br />
 corporate-owned digital world.</p>
 
END:VEVENT
END:VCALENDAR
