BEGIN:VCALENDAR
VERSION:2.0
METHOD:PUBLISH
X-WR-CALNAME:eric.openflows |  June 01 2003- July 01 2003 | Filter\: 
PRODID:-//strange bird labs//Drupal iCal API//EN
BEGIN:VEVENT
DTSTAMP;VALUE=DATE-TIME:20231225T094154Z
DTSTART;VALUE=DATE-TIME:20030630T200000Z
DTEND;VALUE=DATE-TIME:20030630T213000Z
UID:http://eric.openflows.com/?q=node/6
URL;VALUE=URI:http://eric.openflows.com/?q=node/6
SUMMARY:Free Software and the Anti-Globalization Movement
DESCRIPTION:<p>In May of 2003 I was invited to give a presentation at a conference held at the Centre de Cultura Contemporania de Barcelona <a href=\\"http\://www.cccb.org/\\" title=\\"http\://www.cccb.org/\\">http\://www.cccb.org/</a> on the topic of the politics of technology and the opensource/free software movement.<br />
 It was an amazing and unique experience. I was speaking in marble pillared lecture hall\, with simultaneous translation into earpeices people were wearing -- people everywhere in the room were smoking hashish as I spoke. Sort of felt like the UN on dope. </p>
 <p>The largest newspaper of Spain\, El Pais\, called my lecture \\"incendiary and well received\\".</p>
 
END:VEVENT
END:VCALENDAR
