BEGIN:VCALENDAR
VERSION:2.0
METHOD:PUBLISH
X-WR-CALNAME:eric.openflows |  April 01 2004- May 01 2004 | Filter\: 
PRODID:-//strange bird labs//Drupal iCal API//EN
BEGIN:VEVENT
DTSTAMP;VALUE=DATE-TIME:20231225T094254Z
DTSTART;VALUE=DATE-TIME:20040424T000000Z
DTEND;VALUE=DATE-TIME:20040425T180000Z
UID:http://eric.openflows.com/?q=node/5
URL;VALUE=URI:http://eric.openflows.com/?q=node/5
SUMMARY:Social Network Architectures\: What kinds of tools can we design or use to facilitate collaboration?
DESCRIPTION:<p>This presentation brought me back for the first time in 15 years to the school I attended for 5 years. A fun and strange experience.<br />
 The discussion description from the Conference materials was\:</p>
 <p>What kinds of tools can we design or use to facilitate collaboration?<br />
 How does the creative process mirror the network? How can tools generate knowledge?<br />
 What is missing in these tools?<br />
 How we design these tools go beyond chatter?<br />
 Box of Tools for online Collaboration\: from mailing lists\, web servers\, blogs\, voice over ip\, SILC\, wikis</p>
 
END:VEVENT
END:VCALENDAR
