BEGIN:VCALENDAR
VERSION:2.0
METHOD:PUBLISH
X-WR-CALNAME:eric.openflows |  February 01 2006- March 01 2006 | Filter\: 
PRODID:-//strange bird labs//Drupal iCal API//EN
BEGIN:VEVENT
DTSTAMP;VALUE=DATE-TIME:20231225T094259Z
DTSTART;VALUE=DATE-TIME:20060225T130000Z
DTEND;VALUE=DATE-TIME:20060225T144500Z
UID:http://eric.openflows.com/?q=node/8
URL;VALUE=URI:http://eric.openflows.com/?q=node/8
SUMMARY:Overview of Free/Open Source Software for Librarians
DESCRIPTION:<p>Rutgers LISSA presents<br />
 Radical Reference<br />
 Librarian and Open Source Developer</p>
 <p>Saturday\, February 25\, 2006<br />
 1pm<br />
 SCILS\, Room 212</p>
 <p>Jenna Freedman and Eric Goldhagen<br />
 to talk about Radical Reference\:</p>
 <p>    * how reference is delivered online and in the street<br />
     * its bibliographic instruction program<br />
     * international online collaboration<br />
     * the free/open source tools used for content management and organizational coordination<br />
     * why librarians should care about software licenses<br />
     * the Library Education Forum to be held on March 11 in NYC</p>
 
END:VEVENT
END:VCALENDAR
